BEGIN:VCALENDAR
VERSION:2.0
PRODID:-//DJK Grün-Weiß Amelsbüren - ECPv6.15.17.1//NONSGML v1.0//EN
CALSCALE:GREGORIAN
METHOD:PUBLISH
X-WR-CALNAME:DJK Grün-Weiß Amelsbüren
X-ORIGINAL-URL:https://djk-gwa.net
X-WR-CALDESC:Veranstaltungen für DJK Grün-Weiß Amelsbüren
REFRESH-INTERVAL;VALUE=DURATION:PT1H
X-Robots-Tag:noindex
X-PUBLISHED-TTL:PT1H
BEGIN:VTIMEZONE
TZID:Europe/Berlin
BEGIN:DAYLIGHT
TZOFFSETFROM:+0100
TZOFFSETTO:+0200
TZNAME:CEST
DTSTART:20220327T010000
END:DAYLIGHT
BEGIN:STANDARD
TZOFFSETFROM:+0200
TZOFFSETTO:+0100
TZNAME:CET
DTSTART:20221030T010000
END:STANDARD
BEGIN:DAYLIGHT
TZOFFSETFROM:+0100
TZOFFSETTO:+0200
TZNAME:CEST
DTSTART:20230326T010000
END:DAYLIGHT
BEGIN:STANDARD
TZOFFSETFROM:+0200
TZOFFSETTO:+0100
TZNAME:CET
DTSTART:20231029T010000
END:STANDARD
BEGIN:DAYLIGHT
TZOFFSETFROM:+0100
TZOFFSETTO:+0200
TZNAME:CEST
DTSTART:20240331T010000
END:DAYLIGHT
BEGIN:STANDARD
TZOFFSETFROM:+0200
TZOFFSETTO:+0100
TZNAME:CET
DTSTART:20241027T010000
END:STANDARD
BEGIN:DAYLIGHT
TZOFFSETFROM:+0100
TZOFFSETTO:+0200
TZNAME:CEST
DTSTART:20250330T010000
END:DAYLIGHT
BEGIN:STANDARD
TZOFFSETFROM:+0200
TZOFFSETTO:+0100
TZNAME:CET
DTSTART:20251026T010000
END:STANDARD
BEGIN:DAYLIGHT
TZOFFSETFROM:+0100
TZOFFSETTO:+0200
TZNAME:CEST
DTSTART:20260329T010000
END:DAYLIGHT
BEGIN:STANDARD
TZOFFSETFROM:+0200
TZOFFSETTO:+0100
TZNAME:CET
DTSTART:20261025T010000
END:STANDARD
BEGIN:DAYLIGHT
TZOFFSETFROM:+0100
TZOFFSETTO:+0200
TZNAME:CEST
DTSTART:20270328T010000
END:DAYLIGHT
BEGIN:STANDARD
TZOFFSETFROM:+0200
TZOFFSETTO:+0100
TZNAME:CET
DTSTART:20271031T010000
END:STANDARD
END:VTIMEZONE
BEGIN:VEVENT
DTSTART;TZID=Europe/Berlin:20260418T190000
DTEND;TZID=Europe/Berlin:20260419T020000
DTSTAMP:20260419T233536
CREATED:20260331T013846Z
LAST-MODIFIED:20260331T013956Z
UID:4374-1776538800-1776564000@djk-gwa.net
SUMMARY:Ladies Night
DESCRIPTION:DRESSCODE: DANCING QUEEN \n„ALLES\, WORIN DU DICH GERNE BEWEGST UND DICH WOHLFÜHLST“ \nANMELDUNG BIS ZUM 04.04. AN: SILKE.NEUGEBAUER68@WEB.DE
URL:https://djk-gwa.net/event/ladies-night/
LOCATION:Clubheim Tennisanlage\, Hördemannstraße 25\, Münster\, 48163\, Deutschland
ATTACH;FMTTYPE=image/jpeg:https://djk-gwa.net/wp-content/uploads/2026/03/Ladies-Night-_Einladung-_2026_1_converted-scaled.jpeg
END:VEVENT
BEGIN:VEVENT
DTSTART;TZID=Europe/Berlin:20251106T170000
DTEND;TZID=Europe/Berlin:20251106T220000
DTSTAMP:20260419T233536
CREATED:20251017T081655Z
LAST-MODIFIED:20251017T082240Z
UID:4147-1762448400-1762466400@djk-gwa.net
SUMMARY:GWA Feierabend – mit neuem Look der Auszeit
DESCRIPTION:Am 6. November 2025 lädt DJK Grün-Weiß Amelsbüren herzlich zum GWA Feierabend ein! Zwischen 17:00 und 22:00 Uhr heißt es in der „Auszeit“: zusammenkommen\, plaudern\, lachen und einfach eine gute Zeit haben. \nUnter dem Motto „GWA trifft sich – mit neuem Look der Auszeit“ erwartet euch ein entspannter Abend mit alten Bekannten und neuen Gesichtern aus allen Abteilungen und Sportarten der GWA. Der Imbiss ist geöffnet\, und als besonderes Highlight gibt’s ein Freigetränk für die ersten 50 Gäste. \nKommt vorbei\, genießt die neue Atmosphäre der „Auszeit“ und feiert gemeinsam mit der GWA-Familie einen Abend voller Gemeinschaft und guter Stimmung! \n📍 Ort: In der Auszeit \n🕔 Zeit: 6. November 2025\, 17:00–22:00 Uhr
URL:https://djk-gwa.net/event/gwa-feier-abend/
LOCATION:Clubheim Auszeit
ATTACH;FMTTYPE=image/jpeg:https://djk-gwa.net/wp-content/uploads/2025/10/IMG-20251014-WA0003-Kopie.jpg
END:VEVENT
BEGIN:VEVENT
DTSTART;TZID=Europe/Berlin:20241022T150000
DTEND;TZID=Europe/Berlin:20241024T180000
DTSTAMP:20260419T233536
CREATED:20241017T143218Z
LAST-MODIFIED:20241017T150858Z
UID:3626-1729609200-1729792800@djk-gwa.net
SUMMARY:Workshop "Vom Rundlauf zum Tischtennis"
DESCRIPTION:Für Mädchen und Jungen zwischen 8 und 14 Jahren bietet die DJK Grün-Weiß Amelsbüren in der zweiten Ferienwoche von Dienstag bis Donnerstag (22. bis 24. Oktober) jeweils von 15:00 – 18:00 Uhr) einen Tischtennis-Workshop an. Egal ob Neuling oder Fortgeschrittener haben die Teilnehmer die Möglichkeit\, die Grundlagen des Tischtennis-Sports zu erlernen und im besten Fall sich für den Sport zu begeistern. Eine Teilnahme ist auch an Einzelterminen möglich. \n\n\n\nDer Kurs findet in der Turnhalle der Davertschule statt. Mitzubringen ist Sportbekleidung. Schläger und Bälle können ausgeliehen werden. Anmeldungen sind per WhatsApp möglich unter 01512-9607478.
URL:https://djk-gwa.net/event/workshop-vom-rundlauf-zum-tischtennis/
LOCATION:Turnhalle der Davertschule
CATEGORIES:Tischtennis
ATTACH;FMTTYPE=image/jpeg:https://djk-gwa.net/wp-content/uploads/2024/10/Workshop.jpg
END:VEVENT
BEGIN:VEVENT
DTSTART;TZID=Europe/Berlin:20241006T100000
DTEND;TZID=Europe/Berlin:20241006T113000
DTSTAMP:20260419T233536
CREATED:20240826T150414Z
LAST-MODIFIED:20240826T150530Z
UID:3530-1728208800-1728214200@djk-gwa.net
SUMMARY:Bewegungsparcours für 4-6 Jährige
DESCRIPTION:Der Sportverein DJK GW Amelsbüren veranstaltet in Kooperation mit dem Familienzentrum Amelsbüren einen Bewegungsparcours für Kinder im Alter von 4 – 6 Jahren. Am 06.10.2024 von 10:00 – 11:30 Uhr in der Turnhalle der Davertschule. \n\n\nDie Teilnahme ist kostenlos und eine Mitgliedschaft im Sportverein ist nicht notwendig\n\n\n\nInklusive Urkunde und kleinem Geschenk\n\nZur Anmeldung
URL:https://djk-gwa.net/event/bewegungsparcours-fuer-4-6-jaehrige/
LOCATION:Turnhalle der Davertschule
CATEGORIES:Turnen
ATTACH;FMTTYPE=image/jpeg:https://djk-gwa.net/wp-content/uploads/2024/08/KIBAZ-Flyer.jpg
END:VEVENT
BEGIN:VEVENT
DTSTART;TZID=Europe/Berlin:20240921T170000
DTEND;TZID=Europe/Berlin:20240921T235900
DTSTAMP:20260419T233536
CREATED:20240827T160111Z
LAST-MODIFIED:20240827T160347Z
UID:3537-1726938000-1726963140@djk-gwa.net
SUMMARY:Sommerfest Tennis 2024
DESCRIPTION:Die Tennisabteilung von GWA lädt herzlich zum Sommerfest ein! Am Samstag\, den 21.09.2024\, ab 17:00 Uhr geht es im Tennisheim los! \nAnmeldungen bis zum 31.08.2024 per Mail an gwa-sommerfest24@web.de.
URL:https://djk-gwa.net/event/sommerfest-tennis-2024/
LOCATION:Tennisanlage Hördemannstraße\, Hördemannstraße 25\, Münster\, 48163\, Deutschland
CATEGORIES:Tennis
ATTACH;FMTTYPE=image/jpeg:https://djk-gwa.net/wp-content/uploads/2024/08/Einladung-Sommerfest-2024-scaled.jpg
END:VEVENT
BEGIN:VEVENT
DTSTART;TZID=Europe/Berlin:20240705T180000
DTEND;TZID=Europe/Berlin:20240705T210000
DTSTAMP:20260419T233536
CREATED:20240703T123856Z
LAST-MODIFIED:20240703T124006Z
UID:3472-1720202400-1720213200@djk-gwa.net
SUMMARY:Public Viewing – Spanien vs. Deutschland
DESCRIPTION:
URL:https://djk-gwa.net/event/public-viewing-spanien-vs-deutschland/
LOCATION:Clubheim Auszeit
CATEGORIES:Fußball
ATTACH;FMTTYPE=image/png:https://djk-gwa.net/wp-content/uploads/2024/07/Public-Viewing-EM-2024-Viertel-Finale.png
END:VEVENT
BEGIN:VEVENT
DTSTART;TZID=Europe/Berlin:20240623T210000
DTEND;TZID=Europe/Berlin:20240623T230000
DTSTAMP:20260419T233536
CREATED:20240603T120131Z
LAST-MODIFIED:20240603T120131Z
UID:3433-1719176400-1719183600@djk-gwa.net
SUMMARY:Public Viewing – Schweiz vs. Deutschland
DESCRIPTION:
URL:https://djk-gwa.net/event/public-viewing-schweiz-vs-deutschland/
LOCATION:Clubheim Auszeit
CATEGORIES:Fußball
END:VEVENT
BEGIN:VEVENT
DTSTART;TZID=Europe/Berlin:20240619T180000
DTEND;TZID=Europe/Berlin:20240619T200000
DTSTAMP:20260419T233536
CREATED:20240603T120048Z
LAST-MODIFIED:20240603T120048Z
UID:3431-1718820000-1718827200@djk-gwa.net
SUMMARY:Public Viewing – Deutschland vs. Ungarn
DESCRIPTION:
URL:https://djk-gwa.net/event/public-viewing-deutschland-vs-ungarn/
LOCATION:Clubheim Auszeit
CATEGORIES:Fußball
END:VEVENT
BEGIN:VEVENT
DTSTART;TZID=Europe/Berlin:20240614T210000
DTEND;TZID=Europe/Berlin:20240614T230000
DTSTAMP:20260419T233536
CREATED:20240603T120006Z
LAST-MODIFIED:20240603T120251Z
UID:3429-1718398800-1718406000@djk-gwa.net
SUMMARY:Public Viewing – Deutschland vs. Schottland
DESCRIPTION:
URL:https://djk-gwa.net/event/public-viewing-deutschland-vs-schottland/
LOCATION:Clubheim Auszeit
CATEGORIES:Fußball
END:VEVENT
BEGIN:VEVENT
DTSTART;TZID=Europe/Berlin:20240501T103000
DTEND;TZID=Europe/Berlin:20240501T180000
DTSTAMP:20260419T233536
CREATED:20240417T141501Z
LAST-MODIFIED:20240417T141617Z
UID:3374-1714559400-1714586400@djk-gwa.net
SUMMARY:Schleifchenturnier der Tennisabteilung
DESCRIPTION:Auch Gäste sind herzlich willkommen. Anmeldungen bis zum 30. April per Mail an evacluse@gmx.de.
URL:https://djk-gwa.net/event/schleifchenturnier-der-tennisabteilung/
LOCATION:Tennisanlage Hördemannstraße\, Hördemannstraße 25\, Münster\, 48163\, Deutschland
CATEGORIES:Tennis
END:VEVENT
BEGIN:VEVENT
DTSTART;TZID=Europe/Berlin:20240426T180000
DTEND;TZID=Europe/Berlin:20240426T210000
DTSTAMP:20260419T233536
CREATED:20240408T151509Z
LAST-MODIFIED:20240408T152009Z
UID:3344-1714154400-1714165200@djk-gwa.net
SUMMARY:Abteilungsversammlung Fußball
DESCRIPTION:Hiermit laden wir die Mitglieder/-innen der Fußballabteilung der DJK Grün-Weiß Amelsbüren 1928 e.V. herzlich zu der am Freitag\, 26. April 2024 um 18.00 Uhr im GWA Clubheim „Auszeit“ stattfindenden Abteilungsversammlung ein. \nDokument: Einladung Abteilungsversammlung
URL:https://djk-gwa.net/event/abteilungsversammlung-fussball/
LOCATION:Clubheim Auszeit
CATEGORIES:Fußball
END:VEVENT
BEGIN:VEVENT
DTSTART;TZID=Europe/Berlin:20240316T190000
DTEND;TZID=Europe/Berlin:20240316T233000
DTSTAMP:20260419T233536
CREATED:20240219T181614Z
LAST-MODIFIED:20240220T111725Z
UID:3257-1710615600-1710631800@djk-gwa.net
SUMMARY:Ladie's Night "Wild and Free"-Party im Tennisclub
DESCRIPTION:
URL:https://djk-gwa.net/event/ladies-night-wild-and-free-party-im-tennisclub/
LOCATION:Clubheim Tennisanlage\, Hördemannstraße 25\, Münster\, 48163\, Deutschland
CATEGORIES:Tennis
ATTACH;FMTTYPE=image/jpeg:https://djk-gwa.net/wp-content/uploads/2024/02/LadiesNight-2024-wild-and-free.jpg
END:VEVENT
BEGIN:VEVENT
DTSTART;TZID=Europe/Berlin:20240313T180000
DTEND;TZID=Europe/Berlin:20240313T210000
DTSTAMP:20260419T233536
CREATED:20240124T093202Z
LAST-MODIFIED:20240124T093202Z
UID:3161-1710352800-1710363600@djk-gwa.net
SUMMARY:Abteilungsversammlung / Vorstandswahl Tennisabteilung
DESCRIPTION:
URL:https://djk-gwa.net/event/abteilungsversammlung-vorstandswahl-tennisabteilung/
LOCATION:Clubheim Tennisanlage\, Hördemannstraße 25\, Münster\, 48163\, Deutschland
CATEGORIES:Tennis
END:VEVENT
BEGIN:VEVENT
DTSTART;TZID=Europe/Berlin:20240304T170000
DTEND;TZID=Europe/Berlin:20240304T200000
DTSTAMP:20260419T233536
CREATED:20240124T093100Z
LAST-MODIFIED:20240124T093100Z
UID:3158-1709571600-1709582400@djk-gwa.net
SUMMARY:Jugendversammlung / Wahl neuer Jugendwart/-in
DESCRIPTION:
URL:https://djk-gwa.net/event/jugendversammlung-wahl-neuer-jugendwart-in/
LOCATION:Clubheim Tennisanlage\, Hördemannstraße 25\, Münster\, 48163\, Deutschland
CATEGORIES:Tennis
END:VEVENT
BEGIN:VEVENT
DTSTART;TZID=Europe/Berlin:20240127T171500
DTEND;TZID=Europe/Berlin:20240127T220000
DTSTAMP:20260419T233536
CREATED:20240124T092335Z
LAST-MODIFIED:20240124T092857Z
UID:3155-1706375700-1706392800@djk-gwa.net
SUMMARY:Happy New Year Turnier
DESCRIPTION:
URL:https://djk-gwa.net/event/happy-new-year-turnier/
LOCATION:Tennishalle Central\, Osttor 4\, Münster\, 48165\, Deutschland
CATEGORIES:Tennis
END:VEVENT
BEGIN:VEVENT
DTSTART;TZID=Europe/Berlin:20231111T180000
DTEND;TZID=Europe/Berlin:20231111T220000
DTSTAMP:20260419T233536
CREATED:20231012T142627Z
LAST-MODIFIED:20231012T144413Z
UID:2975-1699725600-1699740000@djk-gwa.net
SUMMARY:Tennisabteilung 50-jähriges Jubiläum
DESCRIPTION:Die GWA-Tennisabteilung feiert am 11.11. ab 18 Uhr an der Hördemannstraße ihr 50-jähriges Jubiläum. Im Rahmen der Feierlichkeiten werden auch unsere neuen Ganzjahresplätze offiziell eröffnet. \nEintrittskarten (10 EUR inkl. Buffet) können jeden Donnerstag zwischen 17 und 18 Uhr im Clubhaus an der Hördemannstraße erworben werden.
URL:https://djk-gwa.net/event/tennisabteilung-50-jaehriges-jubilaeum/
LOCATION:Clubheim Tennisanlage\, Hördemannstraße 25\, Münster\, 48163\, Deutschland
CATEGORIES:Tennis
ATTACH;FMTTYPE=image/jpeg:https://djk-gwa.net/wp-content/uploads/2023/10/Plakat-Jubilaeum.jpg
END:VEVENT
BEGIN:VEVENT
DTSTART;TZID=Europe/Berlin:20230917T100000
DTEND;TZID=Europe/Berlin:20230917T100000
DTSTAMP:20260419T233536
CREATED:20230807T091510Z
LAST-MODIFIED:20230807T091544Z
UID:2797-1694944800-1694944800@djk-gwa.net
SUMMARY:Tag der offenen Tür
DESCRIPTION:Flyer-95-Jahre-GWA-_Entwuerfe-1
URL:https://djk-gwa.net/event/tag-der-offenen-tuer/
END:VEVENT
END:VCALENDAR