BEGIN:VCALENDAR
VERSION:2.0
PRODID:-//DJK Grün-Weiß Amelsbüren - ECPv6.15.17.1//NONSGML v1.0//EN
CALSCALE:GREGORIAN
METHOD:PUBLISH
X-WR-CALNAME:DJK Grün-Weiß Amelsbüren
X-ORIGINAL-URL:https://djk-gwa.net
X-WR-CALDESC:Veranstaltungen für DJK Grün-Weiß Amelsbüren
REFRESH-INTERVAL;VALUE=DURATION:PT1H
X-Robots-Tag:noindex
X-PUBLISHED-TTL:PT1H
BEGIN:VTIMEZONE
TZID:Europe/Berlin
BEGIN:DAYLIGHT
TZOFFSETFROM:+0100
TZOFFSETTO:+0200
TZNAME:CEST
DTSTART:20250330T010000
END:DAYLIGHT
BEGIN:STANDARD
TZOFFSETFROM:+0200
TZOFFSETTO:+0100
TZNAME:CET
DTSTART:20251026T010000
END:STANDARD
BEGIN:DAYLIGHT
TZOFFSETFROM:+0100
TZOFFSETTO:+0200
TZNAME:CEST
DTSTART:20260329T010000
END:DAYLIGHT
BEGIN:STANDARD
TZOFFSETFROM:+0200
TZOFFSETTO:+0100
TZNAME:CET
DTSTART:20261025T010000
END:STANDARD
BEGIN:DAYLIGHT
TZOFFSETFROM:+0100
TZOFFSETTO:+0200
TZNAME:CEST
DTSTART:20270328T010000
END:DAYLIGHT
BEGIN:STANDARD
TZOFFSETFROM:+0200
TZOFFSETTO:+0100
TZNAME:CET
DTSTART:20271031T010000
END:STANDARD
END:VTIMEZONE
BEGIN:VEVENT
DTSTART;TZID=Europe/Berlin:20260418T190000
DTEND;TZID=Europe/Berlin:20260419T020000
DTSTAMP:20260419T163053
CREATED:20260331T013846Z
LAST-MODIFIED:20260331T013956Z
UID:4374-1776538800-1776564000@djk-gwa.net
SUMMARY:Ladies Night
DESCRIPTION:DRESSCODE: DANCING QUEEN \n„ALLES\, WORIN DU DICH GERNE BEWEGST UND DICH WOHLFÜHLST“ \nANMELDUNG BIS ZUM 04.04. AN: SILKE.NEUGEBAUER68@WEB.DE
URL:https://djk-gwa.net/event/ladies-night/
LOCATION:Clubheim Tennisanlage\, Hördemannstraße 25\, Münster\, 48163\, Deutschland
ATTACH;FMTTYPE=image/jpeg:https://djk-gwa.net/wp-content/uploads/2026/03/Ladies-Night-_Einladung-_2026_1_converted-scaled.jpeg
END:VEVENT
END:VCALENDAR